BEGIN:VCALENDAR
VERSION:2.0
PRODID:icalendar-ruby
CALSCALE:GREGORIAN
METHOD:PUBLISH
BEGIN:VEVENT
DTSTAMP:20260420T083027Z
UID:39-97230@syracuseriver.org
DTSTART:20251018T130000Z
DTEND:20251018T140000Z
CLASS:PUBLIC
CREATED:20251029T124841
DESCRIPTION:This event is sponsored by Pastor Danny Thornton\, and the Syra
 cuse Pastors.   Come out and be blessed with guest speaker Pastor Franki
 e Jackson.\n \nCost:  $13.49
LAST-MODIFIED:20251029T124841
LOCATION:Golden Corral\, Syracuse\, NY
SUMMARY:Men's Breakfast of Champions
URL;VALUE=URI:https://syracuseriver.org/events/mens-breakfast-of-champions-
 -39/2025-10-18
END:VEVENT
END:VCALENDAR
